BEGIN:VCALENDAR
VERSION:2.0
PRODID:-//Les Amis - Amies de Palestine - ECPv6.15.20//NONSGML v1.0//EN
CALSCALE:GREGORIAN
METHOD:PUBLISH
X-WR-CALNAME:Les Amis - Amies de Palestine
X-ORIGINAL-URL:https://lesamiesdepalestine.ch
X-WR-CALDESC:Events for Les Amis - Amies de Palestine
REFRESH-INTERVAL;VALUE=DURATION:PT1H
X-Robots-Tag:noindex
X-PUBLISHED-TTL:PT1H
BEGIN:VTIMEZONE
TZID:UTC
BEGIN:STANDARD
TZOFFSETFROM:+0000
TZOFFSETTO:+0000
TZNAME:UTC
DTSTART:20230101T000000
END:STANDARD
END:VTIMEZONE
BEGIN:VEVENT
DTSTART;TZID=UTC:20240427T100000
DTEND;TZID=UTC:20240427T180000
DTSTAMP:20260423T192604
CREATED:20240426T154433Z
LAST-MODIFIED:20240426T154433Z
UID:2086-1714212000-1714240800@lesamiesdepalestine.ch
SUMMARY:27 Avril Stand de soutien - Geneve
DESCRIPTION:
URL:https://lesamiesdepalestine.ch/event/27-avril-stand-de-soutien-geneve/
CATEGORIES:Manifestation
ATTACH;FMTTYPE=image/jpeg:https://lesamiesdepalestine.ch/wp-content/uploads/2024/04/27-avril-Geneve.jpg
END:VEVENT
BEGIN:VEVENT
DTSTART;TZID=UTC:20240323T160000
DTEND;TZID=UTC:20240323T193000
DTSTAMP:20260423T192604
CREATED:20240310T160233Z
LAST-MODIFIED:20240310T160319Z
UID:1778-1711209600-1711222200@lesamiesdepalestine.ch
SUMMARY:Stop Genocide
DESCRIPTION:
URL:https://lesamiesdepalestine.ch/event/stop-genocide/
LOCATION:Lausanne\, Lausanne\, Lausanne\, Switzerland
CATEGORIES:Manifestation
ATTACH;FMTTYPE=image/jpeg:https://lesamiesdepalestine.ch/wp-content/uploads/2024/03/24_03-Lausanne.jpg
END:VEVENT
BEGIN:VEVENT
DTSTART;TZID=UTC:20240316T150000
DTEND;TZID=UTC:20240316T170000
DTSTAMP:20260423T192604
CREATED:20240310T155910Z
LAST-MODIFIED:20240310T163515Z
UID:1774-1710601200-1710608400@lesamiesdepalestine.ch
SUMMARY:Stop Au Génocide à Gaza
DESCRIPTION:16.03.24 Grande manifestation “Stop au génocide à Gaza”\nOn ne lâche rien tant que le régime israélien continue de tuer les palestiniens et de violer leurs droits les plus fondamentaux.\nL’appel à lire dans les slides suivantes. Aussi disponible sur @renverse.co (lien dans notre bio).\nNous rappelons que nos camarades de Fribourg organisent aussi une manifestation en solidarité avec le peuple palestinien le même jour à 14h\, rdv sur leur page
URL:https://lesamiesdepalestine.ch/event/stop-le-genocide-a-gaza/
LOCATION:Genève\, Geneve\, GE\, 1201\, Switzerland
CATEGORIES:Manifestation
ATTACH;FMTTYPE=image/jpeg:https://lesamiesdepalestine.ch/wp-content/uploads/2024/03/16-Mars-Geneve.jpg
END:VEVENT
BEGIN:VEVENT
DTSTART;TZID=UTC:20240316T140000
DTEND;TZID=UTC:20240316T170000
DTSTAMP:20260423T192604
CREATED:20240310T152323Z
LAST-MODIFIED:20240310T160424Z
UID:1750-1710597600-1710608400@lesamiesdepalestine.ch
SUMMARY:Ceasefire Now
DESCRIPTION:
URL:https://lesamiesdepalestine.ch/event/ceasefire-now/
LOCATION:Fribourg\, Fribourg\, Fribourg\, 1700\, Switzerland
CATEGORIES:Manifestation
ATTACH;FMTTYPE=image/jpeg:https://lesamiesdepalestine.ch/wp-content/uploads/2024/03/Fribourg-demo.jpg
ORGANIZER;CN="Collectif Solidarite Palestine Fribourg":MAILTO:palestine.fribourg@gmail.com
END:VEVENT
END:VCALENDAR