BEGIN:VCALENDAR
VERSION:2.0
PRODID:-//Les Amis - Amies de Palestine - ECPv6.15.20//NONSGML v1.0//EN
CALSCALE:GREGORIAN
METHOD:PUBLISH
X-ORIGINAL-URL:https://lesamiesdepalestine.ch
X-WR-CALDESC:Events for Les Amis - Amies de Palestine
REFRESH-INTERVAL;VALUE=DURATION:PT1H
X-Robots-Tag:noindex
X-PUBLISHED-TTL:PT1H
BEGIN:VTIMEZONE
TZID:UTC
BEGIN:STANDARD
TZOFFSETFROM:+0000
TZOFFSETTO:+0000
TZNAME:UTC
DTSTART:20230101T000000
END:STANDARD
END:VTIMEZONE
BEGIN:VEVENT
DTSTART;TZID=UTC:20241215T123000
DTEND;TZID=UTC:20241215T170000
DTSTAMP:20260423T155044
CREATED:20241214T131937Z
LAST-MODIFIED:20241214T131944Z
UID:2470-1734265800-1734282000@lesamiesdepalestine.ch
SUMMARY:Journée de Bienfaisance en faveur de GAZA |FSH
DESCRIPTION:Jägerweg\, 2504 Biel\n15 Dec des 12h30
URL:https://lesamiesdepalestine.ch/event/journee-de-bienfaisance-en-faveur-de-gaza-fsh/
LOCATION:Biennes\, 2504\, Switzerland
CATEGORIES:Conference,Souper
ATTACH;FMTTYPE=image/jpeg:https://lesamiesdepalestine.ch/wp-content/uploads/2024/12/15-dec-Bienne.jpg
END:VEVENT
BEGIN:VEVENT
DTSTART;TZID=UTC:20241214T170000
DTEND;TZID=UTC:20241214T170000
DTSTAMP:20260423T155044
CREATED:20241214T131133Z
LAST-MODIFIED:20241214T131133Z
UID:2462-1734195600-1734195600@lesamiesdepalestine.ch
SUMMARY:Marche Silencieuse et Lumineuse | Genève
DESCRIPTION:17h00 PL. De la Navigation\, Genève
URL:https://lesamiesdepalestine.ch/event/marche-silencieuse-et-lumineuse-geneve/
LOCATION:Genève\, Geneve\, GE\, 1201\, Switzerland
CATEGORIES:Manifestation
ATTACH;FMTTYPE=image/jpeg:https://lesamiesdepalestine.ch/wp-content/uploads/2024/12/14-dec-Marche-silencieuse-Geneve.jpg
END:VEVENT
BEGIN:VEVENT
DTSTART;TZID=UTC:20241214T140000
DTEND;TZID=UTC:20241214T220000
DTSTAMP:20260423T155044
CREATED:20241214T131444Z
LAST-MODIFIED:20241214T131444Z
UID:2468-1734184800-1734213600@lesamiesdepalestine.ch
SUMMARY:Marche des Createur-ices | Genève
DESCRIPTION:  \n \nEsplanade Alice-Bailly 1\, 1207 Genève \n14/12 de 16h00 a 22h00
URL:https://lesamiesdepalestine.ch/event/marche-des-createur-ices-geneve/
LOCATION:Genève\, Geneve\, GE\, 1201\, Switzerland
CATEGORIES:Manifestation,Souper
ATTACH;FMTTYPE=image/jpeg:https://lesamiesdepalestine.ch/wp-content/uploads/2024/12/Marche-des-createur-ices-Geneve-14-dec.jpg
END:VEVENT
BEGIN:VEVENT
DTSTART;TZID=UTC:20241212T193000
DTEND;TZID=UTC:20241212T193000
DTSTAMP:20260423T155044
CREATED:20241210T101927Z
LAST-MODIFIED:20241210T102034Z
UID:2447-1734031800-1734031800@lesamiesdepalestine.ch
SUMMARY:Après La Chute Du Assad | Conférence La Syrie -Débat Joseph Daher
DESCRIPTION:La Datcha \nRue du côtés- de- Montbenon 13\, Lausanne
URL:https://lesamiesdepalestine.ch/event/apres-la-chute-du-assad-conference-la-syrie-debat-joseph-daher/
LOCATION:Lausanne\, Lausanne\, Lausanne\, Switzerland
CATEGORIES:Conference
ATTACH;FMTTYPE=image/jpeg:https://lesamiesdepalestine.ch/wp-content/uploads/2024/12/LA-Syrie-Joseph-DAhar.jpg
END:VEVENT
BEGIN:VEVENT
DTSTART;TZID=UTC:20241212T180000
DTEND;TZID=UTC:20241212T180000
DTSTAMP:20260423T155044
CREATED:20241211T063156Z
LAST-MODIFIED:20241211T063202Z
UID:2455-1734026400-1734026400@lesamiesdepalestine.ch
SUMMARY:Rassemblement pour GAZA | Neuchâtel
DESCRIPTION:
URL:https://lesamiesdepalestine.ch/event/rassemblement-pour-gaza-neuchatel/
LOCATION:Neuchâtel\, Neuchâtel\, Switzerland
CATEGORIES:Manifestation
ATTACH;FMTTYPE=image/jpeg:https://lesamiesdepalestine.ch/wp-content/uploads/2024/12/Neuchatel-12_12.jpg
END:VEVENT
BEGIN:VEVENT
DTSTART;TZID=UTC:20241207T150000
DTEND;TZID=UTC:20241207T170000
DTSTAMP:20260423T155044
CREATED:20241123T094338Z
LAST-MODIFIED:20241206T184416Z
UID:2325-1733583600-1733590800@lesamiesdepalestine.ch
SUMMARY:We Will Never Be Silent | Demo Zurich
DESCRIPTION: 
URL:https://lesamiesdepalestine.ch/event/we-will-never-be-silent-demo-zurich/
LOCATION:ZÜRICH\, 8050\, Switzerland
CATEGORIES:Manifestation
ATTACH;FMTTYPE=image/jpeg:https://lesamiesdepalestine.ch/wp-content/uploads/2024/11/0712-Zurich-1.jpg
END:VEVENT
BEGIN:VEVENT
DTSTART;TZID=UTC:20241130T140000
DTEND;TZID=UTC:20241130T170000
DTSTAMP:20260423T155044
CREATED:20241114T145713Z
LAST-MODIFIED:20241206T184416Z
UID:2303-1732975200-1732986000@lesamiesdepalestine.ch
SUMMARY:Stop The Genocide in Palestine & Lebanon
DESCRIPTION:
URL:https://lesamiesdepalestine.ch/event/stop-the-genocide-in-palestine-lebanon/
LOCATION:Basel\, 4001
CATEGORIES:Manifestation
ATTACH;FMTTYPE=image/jpeg:https://lesamiesdepalestine.ch/wp-content/uploads/2024/11/30-Basel.jpg
END:VEVENT
BEGIN:VEVENT
DTSTART;TZID=UTC:20241127T190000
DTEND;TZID=UTC:20241127T190000
DTSTAMP:20260423T155044
CREATED:20241124T100252Z
LAST-MODIFIED:20241206T184416Z
UID:2338-1732734000-1732734000@lesamiesdepalestine.ch
SUMMARY:Silence Kills | Basel
DESCRIPTION:
URL:https://lesamiesdepalestine.ch/event/silence-kills-basel/
LOCATION:Basel\, 4001
CATEGORIES:Manifestation
ATTACH;FMTTYPE=image/png:https://lesamiesdepalestine.ch/wp-content/uploads/2024/11/basel-27_11-Silence-Kills.png
END:VEVENT
BEGIN:VEVENT
DTSTART;TZID=UTC:20241123T150000
DTEND;TZID=UTC:20241123T170000
DTSTAMP:20260423T155044
CREATED:20241123T094738Z
LAST-MODIFIED:20241206T184416Z
UID:2334-1732374000-1732381200@lesamiesdepalestine.ch
SUMMARY:Bloc Soignant.e.x.s | Geneve
DESCRIPTION:
URL:https://lesamiesdepalestine.ch/event/bloc-soignant-e-x-s-geneve/
LOCATION:Genève\, Geneve\, GE\, 1201\, Switzerland
CATEGORIES:Manifestation
ATTACH;FMTTYPE=image/jpeg:https://lesamiesdepalestine.ch/wp-content/uploads/2024/11/2311-geneve.jpg
END:VEVENT
BEGIN:VEVENT
DTSTART;TZID=UTC:20241123T150000
DTEND;TZID=UTC:20241123T170000
DTSTAMP:20260423T155044
CREATED:20241030T083351Z
LAST-MODIFIED:20241206T184416Z
UID:2248-1732374000-1732381200@lesamiesdepalestine.ch
SUMMARY:23 Nov Manifestation  Geneva
DESCRIPTION:23 novembre : grande manifestation populaire pour la Palestine et le Liban\n\nDepuis plus d’un an nous assistons à l’assaut génocidaire d’Israël contre le peuple palestinien dans la bande de Gaza. Depuis le 7 octobre dernier\, plus de 42 000 Palestiniens et plus de 2 000 Libanais sont morts sous les bombes israéliennes. À Gaza\, plus de deux millions de personnes ont été déplacées – souvent à plusieurs reprises – et les infrastructures\, notamment les écoles\, les mosquées\, les églises\, les hôpitaux et les universités\, ont été détruites. L’ensemble de la population est confrontée à la famine. Alors que nous franchissons cette étape horrible\, le génocide à Gaza se poursuit parallèlement aux attaques contre les Palestinien.nes en Cisjordanie\, Israël envahit le Liban\, et nous sommes confrontés à la menace imminente d’une guerre encore plus étendue avec l’Iran.
URL:https://lesamiesdepalestine.ch/event/23-nov-manifestation-geneva/
LOCATION:Genève\, Geneve\, GE\, 1201\, Switzerland
CATEGORIES:Manifestation
ATTACH;FMTTYPE=image/png:https://lesamiesdepalestine.ch/wp-content/uploads/2024/10/BDS-Geneve.png
END:VEVENT
BEGIN:VEVENT
DTSTART;TZID=UTC:20241122T183000
DTEND;TZID=UTC:20241122T183000
DTSTAMP:20260423T155044
CREATED:20241114T151250Z
LAST-MODIFIED:20241206T184416Z
UID:2317-1732300200-1732300200@lesamiesdepalestine.ch
SUMMARY:Islamophobie et Stigmatisation
DESCRIPTION:L’Association Musulmane des Étudiant.e.s de l’Université de Genève (AMEUG) a le plaisir de vous convier vendredi 22 novembre 2024 à 18h30 dans la salle U600 (Uni Dufour) à la projection du documentaire “2004-2024 : les 20 ans d’une loi d’exclusion”\, suivie d’une table ronde avec des intervenants experts des questions politiques et légales autour de la thématique de l’islamophobie. \nNous aurons l’honneur d’accueillir\, notamment\, Rokhaya Diallo journaliste et militante pour les droits des femmes et des personnes racisées mais aussi Hanane Karimi\, maîtresse de conférences en sociologie spécialisée sur les questions d’islamophobie\, ainsi que Dilara Bayrak\, juriste suisse et députée au Grand Conseil Genevois.\nLe producteur du documentaire\, Dhia Ben Naser ainsi que la représentante du Comité contre l’Islamophobie en Europe (CCIE) et autrice\, Miana Bayani seront aussi présents. \nNous vous attendons nombreux et nombreuse à cet événement inédit et vous encourageons à partager l’information autour de vous. \nL’AMEUG
URL:https://lesamiesdepalestine.ch/event/islamophobie-et-stigmatisation/
LOCATION:Genève\, Geneve\, GE\, 1201\, Switzerland
CATEGORIES:Conference
ATTACH;FMTTYPE=image/jpeg:https://lesamiesdepalestine.ch/wp-content/uploads/2024/11/femme-Islam.jpg
END:VEVENT
BEGIN:VEVENT
DTSTART;TZID=UTC:20241122T110000
DTEND;TZID=UTC:20241122T190000
DTSTAMP:20260423T155044
CREATED:20241123T094915Z
LAST-MODIFIED:20241206T184416Z
UID:2336-1732273200-1732302000@lesamiesdepalestine.ch
SUMMARY:Solidarité avec Palestine et Leban | Neuchatel
DESCRIPTION:
URL:https://lesamiesdepalestine.ch/event/solidarite-avec-palestine-et-leban-neuchatel/
CATEGORIES:Manifestation
ATTACH;FMTTYPE=image/jpeg:https://lesamiesdepalestine.ch/wp-content/uploads/2024/11/2211-lausanne.jpg
END:VEVENT
BEGIN:VEVENT
DTSTART;TZID=UTC:20241121T190000
DTEND;TZID=UTC:20241121T230000
DTSTAMP:20260423T155044
CREATED:20241113T082817Z
LAST-MODIFIED:20241206T184416Z
UID:2299-1732215600-1732230000@lesamiesdepalestine.ch
SUMMARY:Que fait Geneve pour faire appliquer ses convention
DESCRIPTION:Que fait Geneve pour faire appliquer ses convention
URL:https://lesamiesdepalestine.ch/event/que-fait-geneve-pour-faire-appliquer-ses-convention/
LOCATION:Genève\, Geneve\, GE\, 1201\, Switzerland
CATEGORIES:Conference
ATTACH;FMTTYPE=image/jpeg:https://lesamiesdepalestine.ch/wp-content/uploads/2024/11/conference-geneve-nov8.jpg
ORGANIZER;CN="Association Maison du Quartier de la Jonction (MQJ)":MAILTO:mqj@mqj.ch
END:VEVENT
BEGIN:VEVENT
DTSTART;TZID=UTC:20241117T153000
DTEND;TZID=UTC:20241117T170000
DTSTAMP:20260423T155044
CREATED:20241114T150651Z
LAST-MODIFIED:20241206T184416Z
UID:2314-1731857400-1731862800@lesamiesdepalestine.ch
SUMMARY:NO Other Land | Projection Supplémentaire au Rex Fribourg
DESCRIPTION:No Other Land est un documentaire poignant et visuellement saisissant qui explore la connexion profonde entre les peuples et la terre qu’ils habitent. À travers un récit intime et une cinématographie époustouflante\, le film aborde des thèmes tels que l’identité\, la culture et le changement environnemental\, mettant en lumière les luttes et la résilience des communautés dont la vie est étroitement liée à la terre. En se concentrant sur l’impact personnel et collectif de la propriété foncière\, No Other Land invite les spectateurs à réfléchir aux significations profondes du foyer\, de l’héritage et de l’équilibre fragile entre la nature et l’existence humaine.
URL:https://lesamiesdepalestine.ch/event/no-other-land/
LOCATION:Fribourg\, Fribourg\, Fribourg\, 1700\, Switzerland
CATEGORIES:Cinema
ATTACH;FMTTYPE=image/jpeg:https://lesamiesdepalestine.ch/wp-content/uploads/2024/11/sat-sun-no-other-land.jpg
END:VEVENT
BEGIN:VEVENT
DTSTART;TZID=UTC:20241116T153000
DTEND;TZID=UTC:20241116T170000
DTSTAMP:20260423T155044
CREATED:20241114T150525Z
LAST-MODIFIED:20241206T184416Z
UID:2310-1731771000-1731776400@lesamiesdepalestine.ch
SUMMARY:No Other Land | Projection Supplémentaire au Rex Fribourg
DESCRIPTION:No Other Land est un documentaire poignant et visuellement saisissant qui explore la connexion profonde entre les peuples et la terre qu’ils habitent. À travers un récit intime et une cinématographie époustouflante\, le film aborde des thèmes tels que l’identité\, la culture et le changement environnemental\, mettant en lumière les luttes et la résilience des communautés dont la vie est étroitement liée à la terre. En se concentrant sur l’impact personnel et collectif de la propriété foncière\, No Other Land invite les spectateurs à réfléchir aux significations profondes du foyer\, de l’héritage et de l’équilibre fragile entre la nature et l’existence humaine.
URL:https://lesamiesdepalestine.ch/event/no-other-land-projection-supplementaire-au-rex-fribourg/
LOCATION:Fribourg\, Fribourg\, Fribourg\, 1700\, Switzerland
CATEGORIES:Cinema
ATTACH;FMTTYPE=image/jpeg:https://lesamiesdepalestine.ch/wp-content/uploads/2024/11/sat-sun-no-other-land.jpg
END:VEVENT
BEGIN:VEVENT
DTSTART;TZID=UTC:20241116T150000
DTEND;TZID=UTC:20241116T170000
DTSTAMP:20260423T155044
CREATED:20241106T093712Z
LAST-MODIFIED:20241206T184417Z
UID:2266-1731769200-1731776400@lesamiesdepalestine.ch
SUMMARY:GROSS-DEMO - ZÜRICH
DESCRIPTION:NÄCHSTE GROSS-DEMO\nSAMSTAG 16.11.2024 15 UHR\, HELVETIAPLATZ\nZÜRICH \nSTOPPT DIE KRIEGSVERBRECHEN IN PALÄSTINA UND IM LIBANON! \nWEITERE INFOS FOLGE \nN
URL:https://lesamiesdepalestine.ch/event/gross-demo-zurich/
LOCATION:ZÜRICH\, 8050\, Switzerland
CATEGORIES:Manifestation
ATTACH;FMTTYPE=image/jpeg:https://lesamiesdepalestine.ch/wp-content/uploads/2024/11/16-Zurich.jpg
END:VEVENT
BEGIN:VEVENT
DTSTART;TZID=UTC:20241112T203000
DTEND;TZID=UTC:20241112T213000
DTSTAMP:20260423T155044
CREATED:20241017T194141Z
LAST-MODIFIED:20241206T184417Z
UID:2142-1731443400-1731447000@lesamiesdepalestine.ch
SUMMARY:No Other Land Film- Cinema Rex Fribourg
DESCRIPTION:No Other Land (2024) \n\nRéalisateurs : Basel Adra\, Hamdan Ballal\, Yuval Abraham\, Rachel Szor (première réalisation pour chacun)\nCollectif : Créé par un collectif palestino-israélien de quatre activistes\, en acte de résistance dans le cadre du conflit en cours.\nPays de production : Palestine et Norvège\nSélection de festival : Présenté dans la section Panorama de la 74e Berlinale (Festival international du film de Berlin)\nDate de la première mondiale : 16 février 2024\nSujet :\n\nActiviste principal : Basel Adra\, jeune palestinien\, documente la résistance contre le déplacement forcé de sa communauté par l’armée israélienne à Masafer Yatta\, en Cisjordanie.\nContexte : La région subit des destructions continues d’habitations et des expulsions forcées.\nAmitié improbable : Basel se lie d’amitié avec Yuval\, un journaliste israélien\, qui l’aide dans sa lutte.\nDéfis de l’amitié : Leur relation est mise à l’épreuve par les disparités de leurs conditions de vie. Basel subit oppression et violence\, alors que Yuval vit en liberté et sécurité.\n\n\n\nCe film souligne les injustices et les tensions dans une région marquée par des conflits incessants\, tout en mettant en avant la solidarité et l’humanité malgré les divisions.
URL:https://lesamiesdepalestine.ch/event/no-other-land-film-cinema-rex-fribourg/
LOCATION:Fribourg\, Fribourg\, Fribourg\, 1700\, Switzerland
CATEGORIES:Cinema
ATTACH;FMTTYPE=image/jpeg:https://lesamiesdepalestine.ch/wp-content/uploads/2024/10/No-Other-Land.jpg
ORGANIZER;CN="Collectif Solidarite Palestine Fribourg":MAILTO:palestine.fribourg@gmail.com
END:VEVENT
BEGIN:VEVENT
DTSTART;TZID=UTC:20241102T143000
DTEND;TZID=UTC:20241102T170000
DTSTAMP:20260423T155044
CREATED:20241021T060445Z
LAST-MODIFIED:20241206T184417Z
UID:2193-1730557800-1730566800@lesamiesdepalestine.ch
SUMMARY:Stop a la Colonisation par Israël - Free Palestine\,  Free Lebanon\,
DESCRIPTION:
URL:https://lesamiesdepalestine.ch/event/stop-a-la-colonisation-par-israel-free-palestine-free-lebanon/
LOCATION:Fribourg\, Fribourg\, Fribourg\, 1700\, Switzerland
CATEGORIES:Manifestation
ATTACH;FMTTYPE=image/jpeg:https://lesamiesdepalestine.ch/wp-content/uploads/2024/10/Manif-fribourg-0211.jpg
ORGANIZER;CN="Collectif Solidarite Palestine Fribourg":MAILTO:palestine.fribourg@gmail.com
END:VEVENT
BEGIN:VEVENT
DTSTART;TZID=UTC:20241031T180000
DTEND;TZID=UTC:20241031T190000
DTSTAMP:20260423T155044
CREATED:20241017T194947Z
LAST-MODIFIED:20241206T184417Z
UID:2148-1730397600-1730401200@lesamiesdepalestine.ch
SUMMARY:Conference Comprendre et Agir - Geneve
DESCRIPTION:
URL:https://lesamiesdepalestine.ch/event/conference-comprendre-et-agir-geneve/
LOCATION:Genève\, Geneve\, GE\, 1201\, Switzerland
CATEGORIES:Conference
ATTACH;FMTTYPE=image/jpeg:https://lesamiesdepalestine.ch/wp-content/uploads/2024/10/Conferance-Geneve.jpg
ORGANIZER;CN="Universit%C3%A9 Ouvri%C3%A8re de Gen%C3%A8ve":MAILTO:contact.suisse@investig-action.ch
END:VEVENT
BEGIN:VEVENT
DTSTART;TZID=UTC:20241031T080000
DTEND;TZID=UTC:20241031T170000
DTSTAMP:20260423T155044
CREATED:20241030T083832Z
LAST-MODIFIED:20241206T184417Z
UID:2252-1730361600-1730394000@lesamiesdepalestine.ch
SUMMARY:Soignantes s Pour la Palestine Manifestation
DESCRIPTION:
URL:https://lesamiesdepalestine.ch/event/soignantes-s-pour-la-palestine-manifestation/
LOCATION:Lausanne\, Lausanne\, Lausanne\, Switzerland
CATEGORIES:Manifestation
ATTACH;FMTTYPE=image/jpeg:https://lesamiesdepalestine.ch/wp-content/uploads/2024/10/medical.jpg
END:VEVENT
BEGIN:VEVENT
DTSTART;TZID=UTC:20241030T190000
DTEND;TZID=UTC:20241030T210000
DTSTAMP:20260423T155044
CREATED:20241021T061731Z
LAST-MODIFIED:20241206T184417Z
UID:2196-1730314800-1730322000@lesamiesdepalestine.ch
SUMMARY:Comment Décoder la Propagande de Guerre?
DESCRIPTION:Palestine\, Ukraine\nComment Décoder la Propagande de Guerre ?\nAvec Michel Collon \n \nRecommendation \n7 octobre. Enquête sur la journée qui a changé le monde \n \n  \n 
URL:https://lesamiesdepalestine.ch/event/comment-decoder-la-propagande-de-guerre/
LOCATION:Lausanne\, Lausanne\, Lausanne\, Switzerland
CATEGORIES:Conference
ATTACH;FMTTYPE=image/jpeg:https://lesamiesdepalestine.ch/wp-content/uploads/2024/10/MIchelle-Collon-Conferance.jpg
END:VEVENT
BEGIN:VEVENT
DTSTART;TZID=UTC:20241026T150000
DTEND;TZID=UTC:20241026T170000
DTSTAMP:20260423T155044
CREATED:20241017T180944Z
LAST-MODIFIED:20241206T184417Z
UID:2127-1729954800-1729962000@lesamiesdepalestine.ch
SUMMARY:Grosse Demo - Palästina Komitee Zürich
DESCRIPTION:
URL:https://lesamiesdepalestine.ch/event/grosse-demo-palastina-komitee-zurich/
LOCATION:ZÜRICH\, 8050\, Switzerland
CATEGORIES:Manifestation
ATTACH;FMTTYPE=image/png:https://lesamiesdepalestine.ch/wp-content/uploads/2024/10/261ozuirchdemo.png
END:VEVENT
BEGIN:VEVENT
DTSTART;TZID=UTC:20241019T143000
DTEND;TZID=UTC:20241019T170000
DTSTAMP:20260423T155044
CREATED:20241017T195620Z
LAST-MODIFIED:20241019T074525Z
UID:2153-1729348200-1729357200@lesamiesdepalestine.ch
SUMMARY:Grande Manifestation Populaire- Genève
DESCRIPTION:  \nNous appelons les féministes à se mobiliser \npour dénoncer la folie génocidaire et colonialiste de l État Israélien ! \nSoutenons les Palestinen.nexs et les Libanais.exs✊🏽🇵🇸✊🏽 A samedi 19/11 à 14h30💪🏽✊🏽🇵🇸🔥 \n  \n  \n  \n🇱🇧🇵🇸🗺 Le parcours pour la manif ! \nCe n’est pas tous les jours que nous réussissons à avoir une manif sur deux rives\, soyons aussi nombreux que possible ! ✊ Contre le génocide à Gaza & les massacres d’Israël au Liban ! \nParcours : Place de Neuve – Rue de la Corraterie – Rue de la Confédération – Rue du Marché – Rue de la Croix-d’or – Rue de Rive – Rue d’Italie – Rue du Rhône – Place du Port – Quai du Général-GUISAN – Pont du Mont-Blanc – Rue du Mont-Blanc – Rue de Chantepoulet – Place de Cornavin – Passage des Alpes – Rue du Fort-Barreau – Parc des Cropettes.
URL:https://lesamiesdepalestine.ch/event/grande-manifestation-populaire-geneve-2/
LOCATION:Genève\, Geneve\, GE\, 1201\, Switzerland
CATEGORIES:Manifestation
ATTACH;FMTTYPE=image/jpeg:https://lesamiesdepalestine.ch/wp-content/uploads/2024/10/Flyer-femministe.jpg
END:VEVENT
BEGIN:VEVENT
DTSTART;VALUE=DATE:20241019
DTEND;VALUE=DATE:20241021
DTSTAMP:20260423T155044
CREATED:20241021T062024Z
LAST-MODIFIED:20241021T063513Z
UID:2203-1729296000-1729468799@lesamiesdepalestine.ch
SUMMARY:STAND Solidarita Con il Libano
DESCRIPTION:
URL:https://lesamiesdepalestine.ch/event/stand-solidarita-con-il-libano/
LOCATION:Logano\, Logano\, Switzerland
CATEGORIES:Souper
ATTACH;FMTTYPE=image/jpeg:https://lesamiesdepalestine.ch/wp-content/uploads/2024/10/Lebanon-events-19-20-0ct.jpg
END:VEVENT
BEGIN:VEVENT
DTSTART;TZID=UTC:20241018T180000
DTEND;TZID=UTC:20241018T190000
DTSTAMP:20260423T155044
CREATED:20241017T193633Z
LAST-MODIFIED:20241017T204132Z
UID:2138-1729274400-1729278000@lesamiesdepalestine.ch
SUMMARY:Hands Off Lebanon - Basel
DESCRIPTION:
URL:https://lesamiesdepalestine.ch/event/hands-off-lebanon-basel/
LOCATION:Basel\, 4001
CATEGORIES:Manifestation
ATTACH;FMTTYPE=image/jpeg:https://lesamiesdepalestine.ch/wp-content/uploads/2024/10/Market-Plaze-Basel.jpg
END:VEVENT
BEGIN:VEVENT
DTSTART;TZID=UTC:20241015T180000
DTEND;TZID=UTC:20241015T193000
DTSTAMP:20260423T155044
CREATED:20241017T194602Z
LAST-MODIFIED:20241017T194602Z
UID:2145-1729015200-1729020600@lesamiesdepalestine.ch
SUMMARY:Avant Il n'y Avait Rien Film - Cinema Korso
DESCRIPTION:
URL:https://lesamiesdepalestine.ch/event/avant-il-ny-avait-rien-film-cinema-korso/
LOCATION:Fribourg\, Fribourg\, Fribourg\, 1700\, Switzerland
CATEGORIES:Cinema
ATTACH;FMTTYPE=image/jpeg:https://lesamiesdepalestine.ch/wp-content/uploads/2024/10/Avant-Il-n-yavait-rien.jpg
ORGANIZER;CN="Collectif Solidarite Palestine Fribourg":MAILTO:palestine.fribourg@gmail.com
END:VEVENT
BEGIN:VEVENT
DTSTART;TZID=UTC:20241005T140000
DTEND;TZID=UTC:20241005T170000
DTSTAMP:20260423T155044
CREATED:20241017T201653Z
LAST-MODIFIED:20241017T201653Z
UID:2162-1728136800-1728147600@lesamiesdepalestine.ch
SUMMARY:NAtional Demo - Basel
DESCRIPTION:
URL:https://lesamiesdepalestine.ch/event/national-demo-basel/
LOCATION:Basel\, 4001
CATEGORIES:Manifestation
ATTACH;FMTTYPE=image/jpeg:https://lesamiesdepalestine.ch/wp-content/uploads/2024/10/Basel-GA.jpg
END:VEVENT
BEGIN:VEVENT
DTSTART;TZID=UTC:20240525T190000
DTEND;TZID=UTC:20240525T230000
DTSTAMP:20260423T155044
CREATED:20240416T130653Z
LAST-MODIFIED:20240527T195303Z
UID:2022-1716663600-1716678000@lesamiesdepalestine.ch
SUMMARY:Souper Solidarité Palestine "Caravanes Solidaires"
DESCRIPTION:Souper Solidarité Palestine “Caravanes Solidaires”\n  \nNous avons le plaisir de vous convier à notre deuxième  Souper pour la Palestine\, un événement de solidarité pour soutenir les efforts humanitaires à Gaza. Rejoignez-nous pour une soirée de partage et de sensibilisation\, où chaque plat servi sera un geste de soutien envers ceux qui en ont le plus besoin. \nDate et heure : 25/05/2024 à 19h00 \nAu cours de cette soirée\, non seulement vous pourrez déguster un repas savoureux\, mais vous aurez également l’opportunité d’en apprendre davantage sur l’histoire et l’actualité de la Palestine. Ce sera un moment pour réfléchir\, discuter et mieux comprendre les enjeux auxquels ce peuple fait face quotidiennement. \nLes fonds collectés lors de ce souper seront intégralement reversés à Caravanes Solidaires\, une organisation dédiée à l’aide humanitaire à Gaza. Votre participation aidera à financer des projets vitaux qui apportent soutien et espoir aux habitants de Gaza. \nNous espérons vous voir nombreux pour cette soirée de solidarité. Votre présence compte\, tout comme votre soutien à une cause qui nécessite l’attention et l’action de tous. \nPour réserver votre place ou obtenir plus d’informations\, veuillez nous contacter \nVenez nombreux\, partagez ce moment avec nous et aidez-nous à faire une différence! \nVotre participation et votre générosité feront la différence. Nous comptons sur vous pour un monde plus juste et solidaire. Venez non seulement pour partager un repas\, mais aussi pour tisser des liens\, échanger des idées et soutenir Gaza.
URL:https://lesamiesdepalestine.ch/event/souper-solidarite-palestine-caravanes-solidaires/
LOCATION:Fribourg\, Fribourg\, Fribourg\, 1700\, Switzerland
CATEGORIES:Souper
ATTACH;FMTTYPE=image/png:https://lesamiesdepalestine.ch/wp-content/uploads/2024/04/0new-flyer.png
END:VEVENT
BEGIN:VEVENT
DTSTART;TZID=UTC:20240501T133000
DTEND;TZID=UTC:20240501T163000
DTSTAMP:20260423T155044
CREATED:20240426T154756Z
LAST-MODIFIED:20240426T154756Z
UID:2089-1714570200-1714581000@lesamiesdepalestine.ch
SUMMARY:1 Mai - Manifestations Pour Palestine - Geneve
DESCRIPTION:  \n✊🇵🇸 Rejoignez le tronçon de solidarité avec les travailleurs et le peuple palestinien pour le 1er mai !
URL:https://lesamiesdepalestine.ch/event/1-mai-manifestations-pour-palestine-geneve/
LOCATION:Genève\, Geneve\, GE\, 1201\, Switzerland
CATEGORIES:Manifestation
ATTACH;FMTTYPE=image/png:https://lesamiesdepalestine.ch/wp-content/uploads/2024/04/01-mai-Geneve-BDS.png
END:VEVENT
BEGIN:VEVENT
DTSTART;TZID=UTC:20240428T100000
DTEND;TZID=UTC:20240428T170000
DTSTAMP:20260423T155044
CREATED:20240426T160644Z
LAST-MODIFIED:20240426T160644Z
UID:2094-1714298400-1714323600@lesamiesdepalestine.ch
SUMMARY:Slow-Up Dimanche 28 - Palestine
DESCRIPTION:
URL:https://lesamiesdepalestine.ch/event/slow-up-dimanche-28-palestine/
LOCATION:Fribourg\, Gare de Fribourg\, Fribourg\, 1700\, Switzerland
CATEGORIES:Manifestation
ATTACH;FMTTYPE=image/jpeg:https://lesamiesdepalestine.ch/wp-content/uploads/2024/04/Slow-up-.jpg
END:VEVENT
END:VCALENDAR